BEGIN:VCALENDAR
VERSION:2.0
PRODID:Imitheme.com 
BEGIN:VEVENT
UID:20260422T095839515936059
DTSTAMP;TZID=UTC:2026-04-22 09:58:39
DTSTART;TZID=America/Los_Angeles:20260422T095839
DTEND;TZID=America/Los_Angeles:20260422T095839
SUMMARY:Men of Purpose
LOCATION:Embassy Cinema
DESCRIPTION:“Men of Purpose,” a dedicated men’s forum that convenes every Monday evening. This initiative is not just a meeting; it’s a movement designed to empower men in their roles as family leaders, business professionals, and spiritual guardians.
URL:https://maximummiracle.org/eventer/men-of-purpose/
END:VEVENT
END:VCALENDAR
