BEGIN:VCALENDAR
VERSION:2.0
PRODID:Imitheme.com 
BEGIN:VEVENT
UID:20260422T1157431350423
DTSTAMP;TZID=UTC:2026-04-22 11:57:43
DTSTART;TZID=America/Los_Angeles:20260422T115743
DTEND;TZID=America/Los_Angeles:20260422T115743
SUMMARY:Word Insight
LOCATION:Embassy Cinema
DESCRIPTION:Led by Pastor Andrew Young, this ministry has successfully reached out to over a thousand schools across Kenya, bringing hundreds of thousands to faith. Every Wednesday evening, the community gathers in the sanctuary for a service known as WORD INSIGHT, where they are uplifted through insightful teachings and powerful prayers.
URL:https://maximummiracle.org/eventer/word-insight/
END:VEVENT
END:VCALENDAR
